{"text_format":"2","workbook":"xlsx","n_sheets":13,"sheets":["안내문(필독)","0.기본정보입력(필수)","1.과제 계획서","2.과제 세부 계획서","3.산학연계 계획서","4.지원금 정산서","5.재료비 지출 내역서","6.문헌 기부채납 신청서","7. 회의활동보고서","8.자문확인서","9.검수 및 인수 확인서","별첨1.특강 및 자문료 지급 기준","별첨2.사업자등록증"],"not_rendered":{"charts":0,"images":16,"macros":0,"external_links":0,"defined_names":10,"comments":0,"pivot_tables":0},"unopened":[],"bounds":{"document_bytes":16777216,"sheet_cells":100000,"run_cost":"one","rows_first":2000,"rows_last":500,"rows_between":2000,"halvings":0,"cell_chars":16384,"cell_head_chars":4096},"cells_cut":0,"cells_raw":0,"read":"whole","date_system":"1900"}

{"sheet":"안내문(필독)","index":0,"n_rows":13,"n_cols":4,"rows_kept":13,"cut":false,"hidden":false,"merged":[[4,0,6,0],[7,0,12,0],[0,0,0,3]]}
["<캡스톤디자인 서류 작성 안내>"]
[]
["※ 서류 제출 목록을 확인하시고 해당하는 양식을 작성 후 제출해 주시기 바랍니다."]
["구분","양식 번호","제출서류","비고"]
["과제 신청 \n제출 서류",1,"캡스톤디자인 과제 계획서"]
[null,2,"캡스톤디자인 과제 세부 계획서"]
[null,3,"캡스톤디자인 산학연계 계획서\n(산학연계트랙만 제출)"]
["지원금 정산 \n제출 서류",4,"캡스톤디자인 지원금 정산서"]
[null,5,"캡스톤디자인 재료비 지출 내역서"]
[null,6,"문헌 기부채납 신청서"]
[null,7,"캡스톤디자인 회의/활동보고서"]
[null,8,"캡스톤디자인 자문 확인서"]
[null,9,"검수 및 인수 확인서"]

{"sheet":"0.기본정보입력(필수)","index":1,"n_rows":9,"n_cols":13,"rows_kept":9,"cut":false,"hidden":false,"merged":[]}
["순번","단과대학명","학부(과)","교과목명","분반","담당교수","과제명","팀명","트랙유형","결과물유형","팀 번호"]
[0,"디자인대학","커뮤니케이션디자인전공","캡스톤디자인",1,"이순신","~작품 제작","홍길동팀","전공트랙","제안형",60,"작성예시"]
[1,"공과대학","휴먼지능로봇공학과","캡스톤디자인",1,"홍길동","~ 로봇 제작","홍길동팀","전공트랙","제품형",60,"실제작성 칸"]
[{"$nulls":12},"제안형"]
[null,"※ 하단의 \"0.기본정보입력(필수)\" 시트는 양식 작성 전에 필수로 입력해 주세요",{"$nulls":10},"제품형"]
[null,"(나머지 양식에 기본 정보가 자동으로 입력 됨)",{"$nulls":10},"소프트웨어형"]
[]
[{"$nulls":12},"전공트랙"]
[{"$nulls":12},"산학연계트랙"]

{"sheet":"1.과제 계획서","index":2,"n_rows":29,"n_cols":14,"rows_kept":29,"cut":false,"hidden":false,"merged":[[26,0,26,7],[25,1,25,7],[11,3,11,6],[7,0,13,0],[14,0,24,0],[1,0,1,7],[2,1,2,3],[2,5,2,7],[21,5,21,6],[22,5,22,6],[6,5,6,7],[4,1,4,3],[3,1,3,3],[3,5,3,7],[5,5,5,7],[16,5,16,6],[17,5,17,6],[18,5,18,6],[5,1,5,3],[27,0,28,0],[27,2,27,7],[28,2,28,7],[6,1,6,3],[13,3,13,6],[23,5,23,6],[24,5,24,6],[7,3,7,6],[8,3,8,6],[9,3,9,6],[12,3,12,6],[19,5,19,6],[14,5,14,6],[15,5,15,6],[20,5,20,6],[10,3,10,6]]}
["[양식1]"]
["캡스톤디자인 과제 계획서"]
["학년도",2021,null,null,"학기",2]
["단과대학명",{"$f":"VLOOKUP(K4,'0.기본정보입력(필수)'!A2:K3,2,0)","v":"공과대학"},null,null,"학부(과)",{"$f":"VLOOKUP(K4,'0.기본정보입력(필수)'!A2:K3,3,0)","v":"휴먼지능로봇공학과"},null,null,null,"프린트",1,null,"팀장","재료비"]
["교과목명",{"$f":"VLOOKUP(K4,'0.기본정보입력(필수)'!A2:K3,4,0)","v":"캡스톤디자인"},null,null,"분반",{"$f":"VLOOKUP(K4,'0.기본정보입력(필수)'!A2:K3,5,0)","v":1},"담당 교수",{"$f":"VLOOKUP(K4,'0.기본정보입력(필수)'!A2:K3,6,0)","v":"홍길동"},{"$nulls":4},"팀원","회의비"]
["과제명",{"$f":"VLOOKUP(K4,'0.기본정보입력(필수)'!A2:K3,7,0)","v":"~ 로봇 제작"},null,null,"팀명",{"$f":"VLOOKUP(K4,'0.기본정보입력(필수)'!A2:K3,8,0)","v":"홍길동팀"},{"$nulls":7},"활동비"]
["트랙 유형",{"$f":"VLOOKUP(K4,'0.기본정보입력(필수)'!A2:K3,9,0)","v":"전공트랙"},null,null,"결과물 유형",{"$f":"VLOOKUP(K4,'0.기본정보입력(필수)'!A2:K3,10,0)","v":"제품형"},{"$nulls":7},"자문료"]
["지원금 예산 \n신청 내역","항목","금액(원)","산출내역",null,null,null,"비율(%)",{"$nulls":5},"추가재료비"]
[null,"재료비",{"$nulls":5},{"$f":"C9/($C$9+$C$10+$C$11+$C$12)","v":{"$error":"#DIV/0!"}}]
[null,"회의비",{"$nulls":5},{"$f":"C10/($C$9+$C$10+$C$11+$C$12)","v":{"$error":"#DIV/0!"}}]
[null,"활동비",{"$nulls":5},{"$error":"#DIV/0!"}]
[null,"자문료",{"$nulls":5},{"$error":"#DIV/0!"}]
[null,"추가재료비",null,"ex) 아크릴제작 등과 같이 사용하는 목적 상세히 기입"]
[null,"합계",{"$f":"SUM(C9:C13)","v":0},{"$nulls":4},{"$f":"C14/$C$14","v":{"$error":"#DIV/0!"}}]
["참가 학생","순번","팀장","학번","성명","개인정보 동의 여부",null,"서명"]
[null,1,"팀장"]
[null,2,"팀원"]
[null,3]
[null,4]
[null,5]
[null,6]
[null,7]
[null,8]
[null,9]
[null,10]
["개인정보 수집 및 이용에 대한 동의 내용","1. 개인정보 수집ㆍ이용 목적\n본 교육혁신추진팀은 캡스톤디자인 프로그램 중 교과목 운영을 목적으로 학생의 개인정보를 수집하고자 하며, 수집된 개인정보는 교과목 운영을 위한 목적으로만 이용됩니다. \n2. 수집하려는 개인정보의 항목 \n개인정보의 항목은 캡스톤디자인 참가자의 소속, 학번, 성명, 연락처, 계좌정보\n3. 개인정보의 보유 및 이용 기간: 5년\n수집된 개인정보는 보유기간 경과 시 파기됩니다. \n4. 동의를 거부할 권리 및 동의 거부에 따른 불이익 \n개인정보 수집 및 이용에 대하여 동의를 거부할 수 있으나, 거부할 시 캡스톤디자인 참가 신청이 완료되지 않음을 유의하시기 바랍니다."]
["위와 같이 과제계획서를 제출하며, 중도포기하거나 구입불가능 \n품목을 구입하여 한국연구재단 지적 및 환수 시에는 제반 규정에 따라 \n지급받은 지원금을 전액 반납할 것을 서약합니다.\n\n2021년    월     일\n\n               담당교수 :                           (인)\n  학과(부)장/전공주임 :                           (인)"]
["첨부서류","필수","과제 세부 계획서 1부"]
[null,"선택","산학연계 계획서 1부(산학연계트랙일 경우만)"]

{"sheet":"2.과제 세부 계획서","index":3,"n_rows":28,"n_cols":14,"rows_kept":28,"cut":false,"hidden":false,"merged":[[7,0,7,7],[11,0,11,7],[21,0,21,7],[1,0,1,7],[2,1,2,3],[2,5,2,7],[3,1,3,3],[3,5,3,7],[5,1,5,3],[5,5,5,7],[6,1,6,3],[6,5,6,7],[4,1,4,3],[12,0,14,7],[8,0,10,7],[25,0,26,0],[25,1,25,7],[26,1,26,7],[16,1,16,7],[17,1,17,7],[18,1,18,7],[19,1,19,7],[20,1,20,7],[22,0,24,7]]}
["[양식2]"]
["캡스톤디자인 과제 세부 계획서"]
["학년도",2021,null,null,"학기",2]
["단과대학명",{"$f":"VLOOKUP(K4,'0.기본정보입력(필수)'!A2:K3,2,0)","v":"공과대학"},null,null,"학부(과)",{"$f":"VLOOKUP(K4,'0.기본정보입력(필수)'!A2:K3,3,0)","v":"휴먼지능로봇공학과"},null,null,null,"프린트",1,null,"팀장","재료비"]
["교과목명",{"$f":"VLOOKUP(K4,'0.기본정보입력(필수)'!A2:K3,4,0)","v":"캡스톤디자인"},null,null,"분반",{"$f":"VLOOKUP(K4,'0.기본정보입력(필수)'!A2:K3,5,0)","v":1},"담당 교수",{"$f":"VLOOKUP(K4,'0.기본정보입력(필수)'!A2:K3,6,0)","v":"홍길동"},{"$nulls":4},"팀원","활동비"]
["과제명",{"$f":"VLOOKUP(K4,'0.기본정보입력(필수)'!A2:K3,7,0)","v":"~ 로봇 제작"},null,null,"팀명",{"$f":"VLOOKUP(K4,'0.기본정보입력(필수)'!A2:K3,8,0)","v":"홍길동팀"},{"$nulls":7},"특강 및 자문료"]
["트랙 유형",{"$f":"VLOOKUP(K4,'0.기본정보입력(필수)'!A2:K3,9,0)","v":"전공트랙"},null,null,"결과물 유형",{"$f":"VLOOKUP(K4,'0.기본정보입력(필수)'!A2:K3,10,0)","v":"제품형"}]
["1. 과제의 목적 및 필요성"]
["TIP: 줄 바꾸는 방법: Alt + Enter"]
[]
[]
["2. 과제 수행방법 및 결과물 개발계획"]
[]
[]
[]
["3. 주차별 추진 일정 "]
["주차","내용"]
["1~4주차"]
["5~8주차"]
["9~12주차"]
["13~16주차"]
["4. 과제 결과물 개발 시 기대효과"]
[]
[]
[]
["작성 전 \n체크리스트","▷ 캡스톤디자인 교과목 지원 가이드라인을 확인하고 숙지하셨습니까? "]
[null,"※ 가이드라인 미숙지로 인한 책임은 본인에게 있으며 위의 내용을 반드시 확인하고 \n캡스톤디자인 교과목을 성실히 수행할 것을 약속 합니다.  "]
[{"$nulls":4},"팀장(학생):                                 (인)        "]

{"sheet":"3.산학연계 계획서","index":4,"n_rows":16,"n_cols":11,"rows_kept":16,"cut":false,"hidden":false,"merged":[[10,6,10,7],[11,1,11,7],[10,1,10,3],[4,1,4,3],[1,0,1,7],[2,1,2,3],[2,5,2,7],[3,1,3,3],[3,5,3,7],[12,0,12,7],[13,4,13,5],[13,6,13,7],[15,0,15,7],[5,1,5,3],[5,5,5,7],[6,1,6,3],[6,5,6,7],[14,4,14,5],[14,6,14,7],[7,0,7,7],[8,4,8,5],[10,4,10,5],[9,1,9,7],[8,1,8,3],[8,6,8,7]]}
["[양식3]"]
["캡스톤디자인 산학연계 계획서"]
["학년도",2021,null,null,"학기",2]
["단과대학명",{"$f":"VLOOKUP(K4,'0.기본정보입력(필수)'!A2:K3,2,0)","v":"공과대학"},null,null,"학부(과)",{"$f":"VLOOKUP(K4,'0.기본정보입력(필수)'!A2:K3,3,0)","v":"휴먼지능로봇공학과"},null,null,null,"프린트",1]
["교과목명",{"$f":"VLOOKUP(K4,'0.기본정보입력(필수)'!A2:K3,4,0)","v":"캡스톤디자인"},null,null,"분반",{"$f":"VLOOKUP(K4,'0.기본정보입력(필수)'!A2:K3,5,0)","v":1},"담당 교수",{"$f":"VLOOKUP(K4,'0.기본정보입력(필수)'!A2:K3,6,0)","v":"홍길동"}]
["과제명",{"$f":"VLOOKUP(K4,'0.기본정보입력(필수)'!A2:K3,7,0)","v":"~ 로봇 제작"},null,null,"팀명",{"$f":"VLOOKUP(K4,'0.기본정보입력(필수)'!A2:K3,8,0)","v":"홍길동팀"},null,null,null,"제품형"]
["트랙 유형","산학연계트랙",null,null,"결과물 유형",{"$f":"VLOOKUP(K4,'0.기본정보입력(필수)'!A2:K3,10,0)","v":"제품형"},null,null,null,"소프트웨어형"]
["산학 연계 산업체 정보",{"$nulls":8},"제안형"]
["산업체명",null,null,null,"대표자명"]
["사업자 등록번호"]
["산업체 담당자 성명",null,null,null,"산업체 담당자 연락처 "]
["산업체 협력 방안","(예시)\n\n우리 팀은 (         )업체와 (                                ) 과제를 수행하기 위해 실무 담당자와의 멘토링 등을 통해 현장에 적용할 수 있는 제품 개발을 목표로 함\n\n- 세부 내용 작성"]
["2021년      월      일  "]
[{"$nulls":4},"산업체 담당자:",null,"(인)   "]
[{"$nulls":4},"팀장(학생):",null,"(인)   "]
["※ 본 서류는 상명대학교‘캡스톤디자인’교과목 참여 확인 목적으로 활용되며 이 외의 기타 상업적인 이용 등 다른 용도로 활용되지 않습니다.\n※ 산업체 2개 이상도 연계 가능. 단, 최소 2회 이상 산업체와 활동 필수(활동보고서 2건 이상 필수 제출)\n※ 결과보고서 작성시 산학연계 활동 결과 보고 작성 필수"]

{"sheet":"4.지원금 정산서","index":5,"n_rows":25,"n_cols":15,"rows_kept":25,"cut":false,"hidden":false,"merged":[[1,0,1,8],[3,5,3,8],[2,1,2,3],[3,1,3,3],[4,1,4,3],[4,7,4,8],[2,5,2,8],[5,1,5,3],[6,1,6,3],[6,5,6,8],[14,3,14,4],[7,7,7,8],[8,7,8,8],[9,7,9,8],[10,7,10,8],[13,7,13,8],[12,1,12,2],[12,7,12,8],[5,7,5,8],[11,7,11,8],[7,0,13,0],[7,1,7,2],[8,1,8,2],[9,1,9,2],[10,1,10,2],[13,1,13,2],[11,1,11,2],[21,0,21,8],[23,6,23,8],[24,6,24,8],[14,0,20,0],[20,1,20,6],[15,3,15,4],[16,3,16,4],[17,3,17,4],[18,3,18,4],[19,3,19,4],[22,0,22,8]]}
["[양식4]"]
["캡스톤디자인 지원금 정산서"]
["학년도",2021,null,null,"학기",2,{"$nulls":7},"재료비","법인카드"]
["단과대학명",{"$f":"VLOOKUP(L4,'0.기본정보입력(필수)'!A2:K3,2,0)","v":"공과대학"},null,null,"학부(과)",{"$f":"VLOOKUP(L4,'0.기본정보입력(필수)'!A2:K3,3,0)","v":"휴먼지능로봇공학과"},{"$nulls":4},"프린트",1,null,"회의비","전자세금계산서"]
["교과목명",{"$f":"VLOOKUP(L4,'0.기본정보입력(필수)'!A2:K3,4,0)","v":"캡스톤디자인"},null,null,"분반",{"$f":"VLOOKUP(L4,'0.기본정보입력(필수)'!A2:K3,5,0)","v":1},"담당 교수",{"$f":"VLOOKUP(L4,'0.기본정보입력(필수)'!A2:K3,6,0)","v":"홍길동"},{"$nulls":5},"활동비","현금영수증"]
["과제명",{"$f":"VLOOKUP(L4,'0.기본정보입력(필수)'!A2:K3,7,0)","v":"~ 로봇 제작"},null,null,"팀 번호",{"$f":"VLOOKUP(L4,'0.기본정보입력(필수)'!A2:K3,11,0)","v":60},"팀명",{"$f":"VLOOKUP(L4,'0.기본정보입력(필수)'!A2:K3,8,0)","v":"홍길동팀"},{"$nulls":5},"자문료","계좌이체"]
["트랙 유형",{"$f":"VLOOKUP(L4,'0.기본정보입력(필수)'!A2:K3,9,0)","v":"전공트랙"},null,null,"결과물 유형",{"$f":"VLOOKUP(L4,'0.기본정보입력(필수)'!A2:K3,10,0)","v":"제품형"},{"$nulls":7},"추가재료비"]
["정산 내용","집행 항목",null,"총 예산","기집행액","집행액","잔액","비고"]
[null,"재료비",{"$nulls":4},{"$f":"D9-E9-F9","v":0}]
[null,"회의비",{"$nulls":4},{"$f":"D10-E10-F10","v":0}]
[null,"활동비",{"$nulls":4},{"$f":"D11-E11-F11","v":0}]
[null,"자문료",null,{"$f":"'1.과제 계획서'!C12","v":0},null,null,{"$f":"D12-E12-F12","v":0}]
[null,"추가재료비",null,{"$f":"'1.과제 계획서'!C13","v":0},null,null,{"$f":"D13-E13-F13","v":0}]
[null,"합계(원)",null,{"$f":"SUM(D9:D13)","v":0},{"$f":"E9+E10+E11+E13","v":0},{"$f":"F9+F10+F11+F13","v":0},0]
["사용 내역","번호","집행 항목","사용 내역",null,"거래처","거래일자","금액","결제방법"]
[null,1,"재료비","\n예시: 아크릴 등 3종 구입\n",null,"\n지마켓\n","\n2021.05.10\n",50000,"법인카드"]
[]
[]
[]
[]
[null,"합계(원)",{"$nulls":5},{"$f":"SUM(H16:H20)","v":50000}]
["* 재료비 → 회의비 → 활동비 → 자문료 순으로 영수증 단위로 입력, 영수증 5개 초과 시 칸 추가하여 기입 \n* 수기로 내용 수정 시 수정 내역 위에 팀장의 도장(서명) 필요(수정테이프 사용불가)"]
["위와 같이 정산을 요청 드리며,  \n과제와 연관된 구입내역임을 확인 및 책임 서약합니다.\n\n2021년       월       일"]
[{"$nulls":5},"팀장(학생):","(인)   "]
[{"$nulls":5},"담당교수:","(인)   "]

{"sheet":"5.재료비 지출 내역서","index":6,"n_rows":12,"n_cols":15,"rows_kept":12,"cut":false,"hidden":false,"merged":[[4,1,4,3],[4,7,4,8],[1,0,1,8],[2,1,2,3],[2,5,2,8],[3,1,3,3],[3,5,3,8],[11,0,11,8],[12,0,29,8],[10,0,10,8],[5,1,5,3],[5,5,5,8],[6,1,6,3],[6,5,6,8],[7,1,7,8],[8,1,8,8],[9,1,9,3],[9,4,9,8]]}
["[양식5]"]
["캡스톤디자인 재료비 지출 내역서"]
["학년도",2021,null,null,"학기",2,{"$nulls":7},"재료비","법인카드"]
["단과대학명",{"$f":"VLOOKUP(L4,'0.기본정보입력(필수)'!A2:K3,2,0)","v":"공과대학"},null,null,"학부(과)",{"$f":"VLOOKUP(L4,'0.기본정보입력(필수)'!A2:K3,3,0)","v":"휴먼지능로봇공학과"},{"$nulls":4},"프린트",1,null,"활동비","전자세금계산서"]
["교과목명",{"$f":"VLOOKUP(L4,'0.기본정보입력(필수)'!A2:K3,4,0)","v":"캡스톤디자인"},null,null,"분반",{"$f":"VLOOKUP(L4,'0.기본정보입력(필수)'!A2:K3,5,0)","v":1},"담당 교수",{"$f":"VLOOKUP(L4,'0.기본정보입력(필수)'!A2:K3,6,0)","v":"홍길동"},{"$nulls":5},"특강 및 자문료","현금영수증"]
["과제명",{"$f":"VLOOKUP(L4,'0.기본정보입력(필수)'!A2:K3,7,0)","v":"~ 로봇 제작"},null,null,"팀명",{"$f":"VLOOKUP(L4,'0.기본정보입력(필수)'!A2:K3,8,0)","v":"홍길동팀"}]
["트랙 유형",{"$f":"VLOOKUP(L4,'0.기본정보입력(필수)'!A2:K3,9,0)","v":"전공트랙"},null,null,"결과물 유형",{"$f":"VLOOKUP(L4,'0.기본정보입력(필수)'!A2:K3,10,0)","v":"제품형"}]
["영수증 첨부","영수증 or 세금계산서 부착"]
["사진 부착","사진 부착(필수)\n(영수증 기입된 구입물품 및 결과물 반영 사진)"]
[null,"활용 용도(과제와의 연관성)"]
["※ 영수증은 반드시 겹치지 않게 부착하며 양식 1개당 1건 부착, 영수증이 많을 경우 페이지 추가하여 작성"]
["거래명세서(견적서) 부착"]

{"sheet":"6.문헌 기부채납 신청서","index":7,"n_rows":16,"n_cols":15,"rows_kept":16,"cut":false,"hidden":false,"merged":[[4,1,4,3],[4,7,4,8],[1,0,1,8],[2,1,2,3],[2,5,2,8],[3,1,3,3],[3,5,3,8],[15,0,15,8],[14,0,14,8],[6,0,6,8],[13,0,13,4],[5,1,5,3],[5,5,5,8]]}
["[양식6]"]
["캡스톤디자인 문헌 기부채납 신청서"]
["학년도",2021,null,null,"학기",2,{"$nulls":7},"재료비","법인카드"]
["단과대학명",{"$f":"VLOOKUP(L4,'0.기본정보입력(필수)'!A2:K3,2,0)","v":"공과대학"},null,null,"학부(과)",{"$f":"VLOOKUP(L4,'0.기본정보입력(필수)'!A2:K3,3,0)","v":"휴먼지능로봇공학과"},{"$nulls":4},"프린트",1,null,"활동비","전자세금계산서"]
["교과목명",{"$f":"VLOOKUP(L4,'0.기본정보입력(필수)'!A2:K3,4,0)","v":"캡스톤디자인"},null,null,"분반",{"$f":"VLOOKUP(L4,'0.기본정보입력(필수)'!A2:K3,5,0)","v":1},"담당 교수",{"$f":"VLOOKUP(L4,'0.기본정보입력(필수)'!A2:K3,6,0)","v":"홍길동"},{"$nulls":5},"특강 및 자문료","현금영수증"]
["과제명",{"$f":"VLOOKUP(L4,'0.기본정보입력(필수)'!A2:K3,7,0)","v":"~ 로봇 제작"},null,null,"팀명",{"$f":"VLOOKUP(L4,'0.기본정보입력(필수)'!A2:K3,8,0)","v":"홍길동팀"}]
["도서 목록"]
["번호","도서명","저자","출판사","출판년도","구입금액","ISBN번호","구매자","서명"]
[1]
[2]
[3]
[4]
[5]
["합계",{"$nulls":4},{"$f":"SUM(F9:F13)","v":0}]
["위 문헌은 캡스톤디자인 교과목 지원금으로 구매하였으며  \n상명대학교 학술정보관에 기부채납을 신청합니다.\n\n2021년        월        일\n\n                                                               팀장(학생):                      (인)\n\n                                                                          학술정보관장 귀하"]
["\n상기 도서를 정히 인수함\n\n학술정보지원팀(학술정보관) 팀장/담당자                         (인)"]

{"sheet":"7. 회의활동보고서","index":8,"n_rows":20,"n_cols":15,"rows_kept":20,"cut":false,"hidden":false,"merged":[[1,0,1,8],[2,1,2,3],[2,5,2,8],[3,1,3,3],[3,5,3,8],[10,4,10,8],[11,4,16,8],[18,0,18,8],[20,0,62,8],[4,1,4,3],[4,7,4,8],[5,1,5,3],[5,5,5,8],[6,1,6,3],[6,5,6,8],[8,1,8,8],[19,0,19,8],[9,0,9,8],[10,0,10,3],[7,1,7,3],[7,5,7,8]]}
["[양식7]"]
["캡스톤디자인 회의/활동보고서Ⅰ"]
["학년도",2021,null,null,"학기",2,{"$nulls":7},"재료비","법인카드"]
["단과대학명",{"$f":"VLOOKUP(L4,'0.기본정보입력(필수)'!A2:K3,2,0)","v":"공과대학"},null,null,"학부(과)",{"$f":"VLOOKUP(L4,'0.기본정보입력(필수)'!A2:K3,3,0)","v":"휴먼지능로봇공학과"},{"$nulls":4},"프린트",1,null,"활동비","전자세금계산서"]
["교과목명",{"$f":"VLOOKUP(L4,'0.기본정보입력(필수)'!A2:K3,4,0)","v":"캡스톤디자인"},null,null,"분반",{"$f":"VLOOKUP(L4,'0.기본정보입력(필수)'!A2:K3,5,0)","v":1},"담당 교수",{"$f":"VLOOKUP(L4,'0.기본정보입력(필수)'!A2:K3,6,0)","v":"홍길동"},{"$nulls":5},"특강 및 자문료","현금영수증"]
["과제명",{"$f":"VLOOKUP(L4,'0.기본정보입력(필수)'!A2:K3,7,0)","v":"~ 로봇 제작"},null,null,"팀명",{"$f":"VLOOKUP(L4,'0.기본정보입력(필수)'!A2:K3,8,0)","v":"홍길동팀"}]
["활동일자","21.05.10.(월)",null,null,"활동시간","14:00 ~ 17:00"]
["트랙 유형",{"$f":"VLOOKUP(L4,'0.기본정보입력(필수)'!A2:K3,9,0)","v":"전공트랙"},null,null,"결과물 유형",{"$f":"VLOOKUP(L4,'0.기본정보입력(필수)'!A2:K3,10,0)","v":"제품형"}]
["회의/\n활동 내용","(예시)\n▶ 회의/활동 목표\n1. 내용입력\n2. 내용입력\n\n▶ 회의/활동내용 및 결과\n1. 내용입력\n2. 내용입력       \n \n  ※ 최소 10줄 이상 작성, 활동 내용에 따라 여러 장에 걸쳐 작성할 수 있음\n  ※ 팀 전원 참석이 아닌 경우 사유를 포함해 내용 작성"]
["※ 회의/활동일시: 영수증 발행시간이 활동 시간안에 반드시 포함되어야 함(영수증 후면 첨부)\n※ 1인당 1만원 이내 사용(카페 음료 1인당 1잔), 서명 인원은 팀원 수(+교수님, 멘토)를 초과할 수 없음\n※ 동일한 날짜에 사용한 식사(식당)영수증과 음료(카페)영수증은 정산될 수 없음.\n※ 수기로 내용 수정 시 수정 내역 위에 팀장의 도장(서명) 필요(수정테이프 사용불가)"]
["참석자 명단",null,null,null,"회의/활동 사진"]
["이름","서명","이름","서명","사진 부착(필수)\n(회의/활동하는 모습을 \n참여인원이 모두 보이게 촬영)\n(단순 식사, 음료 사진×)"]
[]
[]
[]
[]
[]
["[양식8-1]"]
["캡스톤디자인 회의/활동보고서Ⅱ"]
["회의/활동보고서 영수증 부착"]

{"sheet":"8.자문확인서","index":9,"n_rows":18,"n_cols":17,"rows_kept":18,"cut":false,"hidden":false,"merged":[[1,0,1,7],[2,1,2,3],[2,5,2,7],[3,1,3,3],[3,5,3,7],[4,1,4,3],[8,1,8,7],[9,2,9,3],[10,2,10,3],[11,2,11,3],[7,1,7,3],[7,5,7,7],[5,1,5,3],[5,5,5,7],[6,1,6,3],[6,5,6,7],[13,2,13,3],[9,5,9,7],[14,0,14,7],[15,0,15,7],[17,0,17,7],[10,5,10,7],[11,5,11,7],[12,5,12,7],[13,6,13,7],[12,2,12,3],[16,0,16,7],[9,0,13,0]]}
["[양식8]"]
["캡스톤디자인 자문 확인서"]
["학년도",2021,null,null,"학기",2]
["단과대학명",{"$f":"VLOOKUP(K4,'0.기본정보입력(필수)'!A2:K3,2,0)","v":"공과대학"},null,null,"학부(과)",{"$f":"VLOOKUP(K4,'0.기본정보입력(필수)'!A2:K3,3,0)","v":"휴먼지능로봇공학과"},null,null,null,"프린트",1,null,"팀장","재료비"]
["교과목명",{"$f":"VLOOKUP(K4,'0.기본정보입력(필수)'!A2:K3,4,0)","v":"캡스톤디자인"},null,null,"분반",{"$f":"VLOOKUP(K4,'0.기본정보입력(필수)'!A2:K3,5,0)","v":1},"담당 교수",{"$f":"VLOOKUP(K4,'0.기본정보입력(필수)'!A2:K3,6,0)","v":"홍길동"},{"$nulls":4},"팀원","활동비"]
["과제명",{"$f":"VLOOKUP(K4,'0.기본정보입력(필수)'!A2:K3,7,0)","v":"~ 로봇 제작"},null,null,"팀명",{"$f":"VLOOKUP(K4,'0.기본정보입력(필수)'!A2:K3,8,0)","v":"홍길동팀"},{"$nulls":7},"특강 및 자문료"]
["활동일시","21.05.10.(월), 14:00 ~ 17:00",null,null,"장소"]
["트랙 유형",{"$f":"VLOOKUP(K4,'0.기본정보입력(필수)'!A2:K3,9,0)","v":"전공트랙"},null,null,"결과물 유형",{"$f":"VLOOKUP(K4,'0.기본정보입력(필수)'!A2:K3,10,0)","v":"제품형"}]
["내용","(예시)\n※ 자문 내용 등 간략하게 기술\n※ 추가 첨부 : 이력서, 특강자료, 자문 및 평가 자료, 성범죄 경력 조회 회신서"]
["강사\n인적사항","성명",null,null,"소속/직급",{"$nulls":7},"A",1,null,null,"특강"]
[null,"주민등록번호",null,null,"은행명",{"$nulls":7},"B",2,null,null,"자문"]
[null,"계좌번호",null,null,"예금주명",{"$nulls":7},"C",3]
[null,"연락처",null,null,"유형",{"$nulls":7},"D",4]
[null,"지급금액(원)",null,null,"강사료 등급",{"$nulls":7},"E",5]
["※ 지급금액은 1회 자문료 기준에 맞게 기입",{"$nulls":12},6]
["자문 사진 부착(필수)",{"$nulls":12},7]
["[개인정보 수집‧이용 동의서]\n1. 개인정보의 수집·이용 목적: 교육혁신추진팀에서는 캡스톤디자인 프로그램 중 전문가 활용을 목적으로 개인정보를 수집하고자 하며, 수집된 개인정보는 강사료 지급을 위한 목적으로만 이용됩니다. \n2. 수집하려는 개인정보의 항목: 개인정보의 항목은 강사의 소속, 주민번호, 강사료 입금 은행 및 계좌, 예금주명, 연락처\n3. 개인정보의 보유 및 이용 기간: 수집된 개인 정보는 강사료 지급 후 즉시 파기\n4. 동의를 거부할 권리 및 동의 거부에 따른 불이익: 개인정보 수집 및 이용에 대하여 동의를 거부할 수 있으나, \n거부할 시 강사료 지급이 제한 될 수 있습니다.\n",{"$nulls":12},8]
["강사명:                              (인)     "]

{"sheet":"9.검수 및 인수 확인서","index":10,"n_rows":20,"n_cols":10,"rows_kept":20,"cut":false,"hidden":false,"merged":[[7,2,7,7],[7,8,7,9],[10,0,10,9],[17,0,17,9],[1,0,1,9],[3,0,3,1],[3,2,3,9],[4,0,7,1],[4,2,4,7],[4,8,4,9],[5,2,5,7],[5,8,5,9],[6,2,6,7],[6,8,6,9]]}
["[양식9]"]
["검 수  및  인 수 확 인 서"]
[]
["품목 및 수량",null,"세      부      내      역"]
["(예시)\n원단 5롤",null,"거래명세서 내용과 동일",{"$nulls":5}," (      ) "]
[null,null,"견적서 내용과 동일",{"$nulls":5}," (      ) "]
[null,null,"영수증 내용과 동일",{"$nulls":5}," (       ) "]
[null,null,"기타(세금계산서) 내용과 동일 ",{"$nulls":5}," (       ) "]
[]
["        위와 같이 검수 하였음."]
[20210512]
[]
["검수자","직  위",null,"담당교수",null,"성  명",null,"유관순",null,"(인)"]
[]
[]
[]
["        위 검수조서 물품을 정히 인수함."]
[{"$f":"A11","v":20210512}]
[]
["인수자","직  위",null,"학과조교",null,"성  명",null,"홍길동",null,"(인)"]

{"sheet":"별첨1.특강 및 자문료 지급 기준","index":11,"n_rows":0,"n_cols":0,"rows_kept":0,"cut":false,"hidden":false,"merged":[]}

{"sheet":"별첨2.사업자등록증","index":12,"n_rows":1,"n_cols":1,"rows_kept":1,"cut":false,"hidden":false,"merged":[]}
["[별첨2]"]